BEGIN:VCALENDAR
VERSION:2.0
PRODID:-//Cassovium - ECPv6.15.14//NONSGML v1.0//EN
CALSCALE:GREGORIAN
METHOD:PUBLISH
X-WR-CALNAME:Cassovium
X-ORIGINAL-URL:https://edihcassovium.sk
X-WR-CALDESC:Udalosti pre Cassovium
REFRESH-INTERVAL;VALUE=DURATION:PT1H
X-Robots-Tag:noindex
X-PUBLISHED-TTL:PT1H
BEGIN:VTIMEZONE
TZID:Europe/Bratislava
BEGIN:DAYLIGHT
TZOFFSETFROM:+0100
TZOFFSETTO:+0200
TZNAME:CEST
DTSTART:20240331T010000
END:DAYLIGHT
BEGIN:STANDARD
TZOFFSETFROM:+0200
TZOFFSETTO:+0100
TZNAME:CET
DTSTART:20241027T010000
END:STANDARD
BEGIN:DAYLIGHT
TZOFFSETFROM:+0100
TZOFFSETTO:+0200
TZNAME:CEST
DTSTART:20250330T010000
END:DAYLIGHT
BEGIN:STANDARD
TZOFFSETFROM:+0200
TZOFFSETTO:+0100
TZNAME:CET
DTSTART:20251026T010000
END:STANDARD
BEGIN:DAYLIGHT
TZOFFSETFROM:+0100
TZOFFSETTO:+0200
TZNAME:CEST
DTSTART:20260329T010000
END:DAYLIGHT
BEGIN:STANDARD
TZOFFSETFROM:+0200
TZOFFSETTO:+0100
TZNAME:CET
DTSTART:20261025T010000
END:STANDARD
END:VTIMEZONE
BEGIN:VEVENT
DTSTART;TZID=Europe/Bratislava:20250512T143000
DTEND;TZID=Europe/Bratislava:20250512T170000
DTSTAMP:20260425T044030
CREATED:20250502T130651Z
LAST-MODIFIED:20250529T080309Z
UID:2738-1747060200-1747069200@edihcassovium.sk
SUMMARY:ŽENY MÔŽU BYŤ ČÍMKOĽVEK
DESCRIPTION:Inšpiratívna diskusia a networking pre budúce líderky \nBritské veľvyslanectvo na Slovensku a Košice IT Valley vás pozývajú na podujatie zamerané na podporu mladých žien a dievčat\, s cieľom povzbudiť ich\, aby sa nebáli uplatniť v IT\, vede\, letectve či energetike či iných profesiách tradične vnímaných ako „mužské“. \nDiskusia prinesie príbehy piatich výnimočných žien\, ktoré si v týchto sférach vybudovali úspešnú kariéru. Ich skúsenosti\, odvaha a odhodlanie môžu byť inšpiráciou práve pre vás. Po diskusii bude nasledovať priestor na networking a osobné rozhovory. \nPodujatie je určené najmä pre stredoškoláčky a vysokoškoláčky\, ktoré chcú objaviť svoj potenciál a rozšíriť si obzory. Vstup je bezplatný\, registrácia je však povinná. \nVyplňte registračný formulár a zažite deň plný inšpirácie a motivácie. \nPartnerom podujatia je EDIH Cassovium.
URL:https://edihcassovium.sk/udalosti/zeny-mozu-byt-cimkolvek/
LOCATION:UVP Technicom\, Němcovej 5\, Košice\, 04001\, Slovenská republika
ATTACH;FMTTYPE=image/jpeg:https://edihcassovium.sk/wp-content/uploads/2025/05/UTF-8Women-Leaders-x-IT-Valley-1.jpg
END:VEVENT
END:VCALENDAR