BEGIN:VCALENDAR
VERSION:2.0
PRODID:-//Cassovium - ECPv6.15.14//NONSGML v1.0//EN
CALSCALE:GREGORIAN
METHOD:PUBLISH
X-WR-CALNAME:Cassovium
X-ORIGINAL-URL:https://edihcassovium.sk
X-WR-CALDESC:Udalosti pre Cassovium
REFRESH-INTERVAL;VALUE=DURATION:PT1H
X-Robots-Tag:noindex
X-PUBLISHED-TTL:PT1H
BEGIN:VTIMEZONE
TZID:Europe/Bratislava
BEGIN:DAYLIGHT
TZOFFSETFROM:+0100
TZOFFSETTO:+0200
TZNAME:CEST
DTSTART:20240331T010000
END:DAYLIGHT
BEGIN:STANDARD
TZOFFSETFROM:+0200
TZOFFSETTO:+0100
TZNAME:CET
DTSTART:20241027T010000
END:STANDARD
BEGIN:DAYLIGHT
TZOFFSETFROM:+0100
TZOFFSETTO:+0200
TZNAME:CEST
DTSTART:20250330T010000
END:DAYLIGHT
BEGIN:STANDARD
TZOFFSETFROM:+0200
TZOFFSETTO:+0100
TZNAME:CET
DTSTART:20251026T010000
END:STANDARD
BEGIN:DAYLIGHT
TZOFFSETFROM:+0100
TZOFFSETTO:+0200
TZNAME:CEST
DTSTART:20260329T010000
END:DAYLIGHT
BEGIN:STANDARD
TZOFFSETFROM:+0200
TZOFFSETTO:+0100
TZNAME:CET
DTSTART:20261025T010000
END:STANDARD
END:VTIMEZONE
BEGIN:VEVENT
DTSTART;TZID=Europe/Bratislava:20251009T170000
DTEND;TZID=Europe/Bratislava:20251009T193000
DTSTAMP:20260424T212321
CREATED:20250924T081906Z
LAST-MODIFIED:20250924T081906Z
UID:4363-1760029200-1760038200@edihcassovium.sk
SUMMARY:Innopsies POPRAD - AI: Novodobá esencia pre vaše úspešné podnikanie
DESCRIPTION:Digitálna transformácia pre malých a stredných podnikateľov – “AI: Novodobá esencia pre vaše úspešné podnikanie”\n  \nViac informácií a registračný formulár nájdete tu: \nhttps://edihcassovium.sk/innopsies-poprad-ai-novodoba-esencia-pre-vase-uspesne-podnikanie/
URL:https://edihcassovium.sk/udalosti/innopsies-poprad-ai-novodoba-esencia-pre-vase-uspesne-podnikanie/
LOCATION:Coworking Poprad\, Námestie svätého Egídia 11/25\, Poprad\, 058 01\, Slovakia (Slovak Republic)
ATTACH;FMTTYPE=image/jpeg:https://edihcassovium.sk/wp-content/uploads/2025/09/POPRAD-1.jpg
END:VEVENT
END:VCALENDAR