BEGIN:VCALENDAR
VERSION:2.0
PRODID:-//Cassovium - ECPv6.15.14//NONSGML v1.0//EN
CALSCALE:GREGORIAN
METHOD:PUBLISH
X-WR-CALNAME:Cassovium
X-ORIGINAL-URL:https://edihcassovium.sk
X-WR-CALDESC:Udalosti pre Cassovium
REFRESH-INTERVAL;VALUE=DURATION:PT1H
X-Robots-Tag:noindex
X-PUBLISHED-TTL:PT1H
BEGIN:VTIMEZONE
TZID:Europe/Bratislava
BEGIN:DAYLIGHT
TZOFFSETFROM:+0100
TZOFFSETTO:+0200
TZNAME:CEST
DTSTART:20250330T010000
END:DAYLIGHT
BEGIN:STANDARD
TZOFFSETFROM:+0200
TZOFFSETTO:+0100
TZNAME:CET
DTSTART:20251026T010000
END:STANDARD
BEGIN:DAYLIGHT
TZOFFSETFROM:+0100
TZOFFSETTO:+0200
TZNAME:CEST
DTSTART:20260329T010000
END:DAYLIGHT
BEGIN:STANDARD
TZOFFSETFROM:+0200
TZOFFSETTO:+0100
TZNAME:CET
DTSTART:20261025T010000
END:STANDARD
BEGIN:DAYLIGHT
TZOFFSETFROM:+0100
TZOFFSETTO:+0200
TZNAME:CEST
DTSTART:20270328T010000
END:DAYLIGHT
BEGIN:STANDARD
TZOFFSETFROM:+0200
TZOFFSETTO:+0100
TZNAME:CET
DTSTART:20271031T010000
END:STANDARD
END:VTIMEZONE
BEGIN:VEVENT
DTSTART;TZID=Europe/Bratislava:20260129T090000
DTEND;TZID=Europe/Bratislava:20260129T133000
DTSTAMP:20260424T153139
CREATED:20260120T095730Z
LAST-MODIFIED:20260120T130915Z
UID:4844-1769677200-1769693400@edihcassovium.sk
SUMMARY:MedTech Day 2026 Konferencia
DESCRIPTION:Odborná konferencia\, ktorá prináša jedinečné spojenie medicíny\, technológií\, výskumu a inovácií s cieľom rozvíjať moderné zdravotníctvo vo východnom Slovensku. Podujatie organizované klastrom Košice IT Valley v spolupráci s EDIH Cassovium vytvára platformu pre odborníkov zo zdravotníctva\, technologické a MedTech spoločnosti\, startupy\, akademickú sféru a predstaviteľov verejného sektora\, ktorí hľadajú praktické a udržateľné riešenia pre budúcnosť zdravotnej starostlivosti. \nViac info: https://edihcassovium.sk/konferencia-medtech-day-2026/
URL:https://edihcassovium.sk/udalosti/medtech-day-2026-konferencia/
LOCATION:UVP Technicom\, Němcovej 5\, Košice\, 04001\, Slovenská republika
ATTACH;FMTTYPE=image/png:https://edihcassovium.sk/wp-content/uploads/2026/01/event-banner-2.png
END:VEVENT
END:VCALENDAR