BEGIN:VCALENDAR
VERSION:2.0
PRODID:-//Cassovium - ECPv6.15.14//NONSGML v1.0//EN
CALSCALE:GREGORIAN
METHOD:PUBLISH
X-WR-CALNAME:Cassovium
X-ORIGINAL-URL:https://edihcassovium.sk
X-WR-CALDESC:Udalosti pre Cassovium
REFRESH-INTERVAL;VALUE=DURATION:PT1H
X-Robots-Tag:noindex
X-PUBLISHED-TTL:PT1H
BEGIN:VTIMEZONE
TZID:Europe/Bratislava
BEGIN:DAYLIGHT
TZOFFSETFROM:+0100
TZOFFSETTO:+0200
TZNAME:CEST
DTSTART:20240331T010000
END:DAYLIGHT
BEGIN:STANDARD
TZOFFSETFROM:+0200
TZOFFSETTO:+0100
TZNAME:CET
DTSTART:20241027T010000
END:STANDARD
BEGIN:DAYLIGHT
TZOFFSETFROM:+0100
TZOFFSETTO:+0200
TZNAME:CEST
DTSTART:20250330T010000
END:DAYLIGHT
BEGIN:STANDARD
TZOFFSETFROM:+0200
TZOFFSETTO:+0100
TZNAME:CET
DTSTART:20251026T010000
END:STANDARD
BEGIN:DAYLIGHT
TZOFFSETFROM:+0100
TZOFFSETTO:+0200
TZNAME:CEST
DTSTART:20260329T010000
END:DAYLIGHT
BEGIN:STANDARD
TZOFFSETFROM:+0200
TZOFFSETTO:+0100
TZNAME:CET
DTSTART:20261025T010000
END:STANDARD
END:VTIMEZONE
BEGIN:VEVENT
DTSTART;TZID=Europe/Bratislava:20250311T170000
DTEND;TZID=Europe/Bratislava:20250311T200000
DTSTAMP:20260425T060401
CREATED:20250220T143119Z
LAST-MODIFIED:20250220T143119Z
UID:2552-1741712400-1741723200@edihcassovium.sk
SUMMARY:INNOMEETS: WOMEN & BUSINESS
DESCRIPTION:
URL:https://edihcassovium.sk/udalosti/innomeets-women-business/
LOCATION:UVP Technicom\, Němcovej 5\, Košice\, 04001\, Slovenská republika
ATTACH;FMTTYPE=image/jpeg:https://edihcassovium.sk/wp-content/uploads/2025/02/WOMEN-BUSINESS-FB.jpg
END:VEVENT
BEGIN:VEVENT
DTSTART;TZID=Europe/Bratislava:20250318T090000
DTEND;TZID=Europe/Bratislava:20250318T130000
DTSTAMP:20260425T060401
CREATED:20250218T093137Z
LAST-MODIFIED:20250531T170214Z
UID:2543-1742288400-1742302800@edihcassovium.sk
SUMMARY:KONFERENCIA INOVÁCIE NA DOSAH
DESCRIPTION:Pozývame vás na konferenciu Inovácie na dosah – Digitálna (r)evolúcia!
URL:https://edihcassovium.sk/udalosti/konferencia-inovacie-na-dosah/
LOCATION:Kulturpark\, Košice\, Kukučínova 2\, Košice\, 04001\, Slovenská republika
ATTACH;FMTTYPE=image/jpeg:https://edihcassovium.sk/wp-content/uploads/2025/02/EDIH-Cassovium-Inovacie-na-dosah.jpg
END:VEVENT
END:VCALENDAR